BEGIN:VCALENDAR
BEGIN:VTIMEZONE
TZID:America/Chicago
BEGIN:STANDARD
DTSTART:20220831T150000
RRULE:FREQ=YEARLY;BYDAY=1SU;BYMONTH=11
TZOFFSETFROM:-0500
TZOFFSETTO:-0600
END:STANDARD
BEGIN:DAYLIGHT
DTSTART:20220831T150000
RRULE:FREQ=YEARLY;BYDAY=2SU;BYMONTH=3
TZOFFSETFROM:-0600
TZOFFSETTO:-0500
END:DAYLIGHT
END:VTIMEZONEVERSION:2.0
BEGIN:VEVENT
DTSTAMP:20260425T164718
STATUS:CONFIRMED
UID:MTSU-WORKSHOP-3510
DTSTART;TZID=America/Chicago:20220831T150000
DTEND;TZID=America/Chicago:20220831T160000
SUMMARY:AMP Works
DESCRIPTION:http://www.mtsu.edu/workshops/register/3510/amp-works
X-ALT-DESC;FMTTYPE=text/html:<a href='http://www.mtsu.edu/workshops/register/3510/amp-works'>http://www.mtsu.edu/workshops/register/3510/amp-works</a>
LOCATION:James E. Walker Library (LIB) 264a
BEGIN:VALARM
TRIGGER:-PT15M
ACTION:DISPLAY
END:VALARM
TRANSP:OPAQUE
END:VEVENT
END:VCALENDAR